BEGIN:VCALENDAR
VERSION:2.0
CALSCALE:GREGORIAN
PRODID:adamgibbons/ics
METHOD:PUBLISH
X-PUBLISHED-TTL:PT1H
BEGIN:VEVENT
UID:198@scruscio.org
SUMMARY:Riunione PALUG
DTSTAMP:20260424T165755Z
DTSTART:20260429T183000Z
DTEND:20260429T210000Z
DESCRIPTION:Riunione mensile del PaLug - Palermo Linux (and free software) 
	User Group
URL:https://scruscio.org/event/riunione-palug-2
GEO:38.1191018;13.3376574
LOCATION:Cre.Zi.Plus - Cantieri Culturali alla Zisa - Via Paolo Gili 4 - Pa
	lermo
STATUS:CONFIRMED
CATEGORIES:FLOSS,GNU/Linux,riunione,free software
X-ALT-DESC;FMTTYPE=text/html:<p>Riunione mensile del PaLug - Palermo Linux 
	(and free software) User Group</p>
BEGIN:VALARM
ACTION:DISPLAY
DESCRIPTION:Riunione PALUG
TRIGGER:-PT1H
END:VALARM
END:VEVENT
END:VCALENDAR
