BEGIN:VCALENDAR
VERSION:2.0
CALSCALE:GREGORIAN
PRODID:adamgibbons/ics
METHOD:PUBLISH
X-PUBLISHED-TTL:PT1H
BEGIN:VEVENT
UID:197@scruscio.org
SUMMARY:DtMF — Debí tirar más fotos
DTSTAMP:20260424T130527Z
DTSTART:20260424T160000Z
DTEND:20260424T200000Z
DESCRIPTION:DTMF — DEBÍ TIRAR MÁS FOTOS\n\n\n\n\n24 APRILE\n\n\n🕕 ORE 18.00
	\n\n\n📍 ARCI PORCO ROSSO – PALERMO\n\n\n\nIl 24 aprile ricorre l’anniversa
	rio della scomparsa di Luigi Carollo\, figura\ncentrale del movimento LGBT
	QIA+ palermitano e tra i fondatori del Palermo Pride.\n\nVogliamo ricordar
	lo come avrebbe meritato: stando insieme\, discutendo\,\nbrindando\, guard
	ando avanti.\n\nPer questo nasce DtMF - Debí tirar más fotos\, un titolo c
	he parla di nostalgia\,\nmemoria\, amicizia e comunità.\n\nDel rimpianto p
	er chi non c’è più\, ma anche della gioia collettiva con cui\ncontinuiamo 
	a evocarlo.\n\nSarà una discussione pubblica e assemblea aperta\, una most
	ra fotografica\, un\nmomento per ritrovarci e condividere pensieri\, ricor
	di e desideri.\n\nParleremo di Luigi\, del Palermo Pride e di una domanda 
	che ci attraversa ancora\noggi:\n\ncome si costruisce uno spazio capace di
	 parlare a tutta la città senza\nrinunciare alla radicalità politica?\n\nC
	ome si usa il mainstream senza esserne addomesticatə?\n\nNe discuteremo an
	che a partire dall’halftime show di Bad Bunny\, capace di\ntrasformare uno
	 dei luoghi simbolo della cultura dominante in uno spazio di\norgoglio\, c
	omunità e rottura.\n\nIntervengono Gabriella Palermo\, Massimo Milani\, Mi
	rko Pace\, Carlo Verri\n\nDurante l’evento inaugureremo anche una mostra d
	i foto di e con Luigi Carollo\,\nvisitabile anche il 25 aprile.\n\nA segui
	re aperitivo.\n\nPerché alcune persone continuano a vivere nei corpi\, nel
	le lotte e nelle\ncomunità che hanno contribuito a costruire.\n\nVi aspett
	iamo.
URL:https://scruscio.org/event/dtmf-debi-tirar-mas-fotos
GEO:38.11363664728201;13.361058671163851
LOCATION:Arci Porco Rosso - Piazza Casa Professa 2 - Palermo
STATUS:CONFIRMED
CATEGORIES:comunità,Nudm,mostra fotografica,Palermo pride,Conversazione
X-ALT-DESC;FMTTYPE=text/html:<h2><strong>DtMF — Debí tirar más fotos</stron
	g></h2><p></p><h3>24 aprile</h3><h3>🕕 Ore 18.00</h3><h3>📍 Arci Porco Rosso
	 – Palermo</h3><p></p><p>Il 24 aprile ricorre l’anniversario della scompar
	sa di Luigi Carollo, figura centrale del movimento LGBTQIA+ palermitano e 
	tra i fondatori del Palermo Pride.</p><p>Vogliamo ricordarlo come avrebbe 
	meritato: stando insieme, discutendo, brindando, guardando avanti.</p><p>P
	er questo nasce DtMF - Debí tirar más fotos, un titolo che parla di nostal
	gia, memoria, amicizia e comunità.</p><p>Del rimpianto per chi non c’è più
	, ma anche della gioia collettiva con cui continuiamo a evocarlo.</p><p>Sa
	rà una discussione pubblica e assemblea aperta, una mostra fotografica, un
	 momento per ritrovarci e condividere pensieri, ricordi e desideri.</p><p>
	<strong>Parleremo di Luigi, del Palermo Pride e di una domanda che ci attr
	aversa ancora oggi:</strong></p><p><strong>come si costruisce uno spazio c
	apace di parlare a tutta la città senza rinunciare alla radicalità politic
	a?</strong></p><p><strong>Come si usa il mainstream senza esserne addomest
	icatə?</strong></p><p>Ne discuteremo anche a partire dall’halftime show di
	 Bad Bunny, capace di trasformare uno dei luoghi simbolo della cultura dom
	inante in uno spazio di orgoglio, comunità e rottura.</p><p>Intervengono G
	abriella Palermo, Massimo Milani, Mirko Pace, Carlo Verri</p><p>Durante l’
	evento inaugureremo anche una mostra di foto di e con Luigi Carollo, visit
	abile anche il 25 aprile.</p><p>A seguire aperitivo. </p><p>Perché alcune 
	persone continuano a vivere nei corpi, nelle lotte e nelle comunità che ha
	nno contribuito a costruire.</p><p>Vi aspettiamo.</p>
BEGIN:VALARM
ACTION:DISPLAY
DESCRIPTION:DtMF — Debí tirar más fotos
TRIGGER:-PT1H
END:VALARM
END:VEVENT
END:VCALENDAR
