BEGIN:VCALENDAR
VERSION:2.0
CALSCALE:GREGORIAN
PRODID:adamgibbons/ics
METHOD:PUBLISH
X-PUBLISHED-TTL:PT1H
BEGIN:VEVENT
UID:196@scruscio.org
SUMMARY:Corteo Antifascista  25 Aprile - Palermo
DTSTAMP:20260422T133801Z
DTSTART:20260425T070000Z
DTEND:20260425T100000Z
DESCRIPTION:Sabato 25 aprile concentramento ore 9:00 in pizza Francesco Cri
	spi (ex Piazza\nCroci) lato Giardino inglese - Palermo\n\nUnisciti anche t
	u allo spezzone Antifascista\, antisionista e anti colonialista\nanti impe
	rialista per il corteo del 25 aprile a Palermo.\n\nOggi più che mai bisogn
	a unirsi insieme per contrastare ogni forma di\nrepressione e criminalizza
	zione del dissenso del governo neo fascista Meloni e\ndegli altri governi 
	neo fascisti europei. Contro la repressione le guerre il\ncarovita e la pr
	ecarietà costante.
URL:https://scruscio.org/event/corteo-antifascista-25-aprile
LOCATION:Piazza Francesco Crispi - Piazza Francesco Crispi Palermo
STATUS:CONFIRMED
CATEGORIES:corteo,comunità,antifascismo
X-ALT-DESC;FMTTYPE=text/html:<p>Sabato 25 aprile concentramento ore 9:00 in
	 pizza Francesco Crispi (ex Piazza Croci) lato Giardino inglese - Palermo 
	</p><p>Unisciti anche tu allo spezzone Antifascista, antisionista e anti c
	olonialista anti imperialista per il corteo del 25 aprile a Palermo.</p><p
	>Oggi più che mai bisogna unirsi insieme per contrastare ogni forma di rep
	ressione e criminalizzazione del dissenso del governo neo fascista Meloni 
	e degli altri governi neo fascisti europei. Contro la repressione le guerr
	e il carovita e la precarietà costante.</p>
BEGIN:VALARM
ACTION:DISPLAY
DESCRIPTION:Corteo Antifascista  25 Aprile - Palermo
TRIGGER:-PT1H
END:VALARM
END:VEVENT
END:VCALENDAR
